<?xml version="1.0" encoding="UTF-8" standalone="no"?>
<metadata xml:lang="en">
<Esri>
<CreaDate>20160122</CreaDate>
<CreaTime>12305600</CreaTime>
<ArcGISFormat>1.0</ArcGISFormat>
<ArcGISstyle>FGDC CSDGM Metadata</ArcGISstyle>
<SyncOnce>FALSE</SyncOnce>
<scaleRange>
<minScale>150000000</minScale>
<maxScale>5000</maxScale>
</scaleRange>
<DataProperties>
<itemProps>
<itemName Sync="TRUE">dupage_dsm</itemName>
<imsContentType Sync="TRUE" export="False">002</imsContentType>
<nativeExtBox>
<westBL Sync="TRUE">998126.908093</westBL>
<eastBL Sync="TRUE">1103920.408093</eastBL>
<southBL Sync="TRUE">1822779.633012</southBL>
<northBL Sync="TRUE">1961492.133012</northBL>
<exTypeCode Sync="TRUE">1</exTypeCode>
</nativeExtBox>
</itemProps>
<coordRef>
<type Sync="TRUE">Projected</type>
<geogcsn Sync="TRUE">GCS_NAD_1983_2011</geogcsn>
<csUnits Sync="TRUE">Linear Unit: Foot_US (0.304801)</csUnits>
<projcsn Sync="TRUE">NAD_1983_2011_StatePlane_Illinois_East_FIPS_1201_Ft_US</projcsn>
<peXml Sync="TRUE">&lt;ProjectedCoordinateSystem xsi:type='typens:ProjectedCoordinateSystem' xmlns:xsi='http://www.w3.org/2001/XMLSchema-instance' xmlns:xs='http://www.w3.org/2001/XMLSchema' xmlns:typens='http://www.esri.com/schemas/ArcGIS/10.3'&gt;&lt;WKT&gt;PROJCS[&amp;quot;NAD_1983_2011_StatePlane_Illinois_East_FIPS_1201_Ft_US&amp;quot;,GEOGCS[&amp;quot;GCS_NAD_1983_2011&amp;quot;,DATUM[&amp;quot;D_NAD_1983_2011&amp;quot;,SPHEROID[&amp;quot;GRS_1980&amp;quot;,6378137.0,298.257222101]],PRIMEM[&amp;quot;Greenwich&amp;quot;,0.0],UNIT[&amp;quot;Degree&amp;quot;,0.0174532925199433]],PROJECTION[&amp;quot;Transverse_Mercator&amp;quot;],PARAMETER[&amp;quot;False_Easting&amp;quot;,984250.0],PARAMETER[&amp;quot;False_Northing&amp;quot;,0.0],PARAMETER[&amp;quot;Central_Meridian&amp;quot;,-88.33333333333333],PARAMETER[&amp;quot;Scale_Factor&amp;quot;,0.999975],PARAMETER[&amp;quot;Latitude_Of_Origin&amp;quot;,36.66666666666666],UNIT[&amp;quot;Foot_US&amp;quot;,0.3048006096012192],AUTHORITY[&amp;quot;ESRI&amp;quot;,103037]],VERTCS[&amp;quot;NAVD_1988_Foot_US&amp;quot;,VDATUM[&amp;quot;North_American_Vertical_Datum_1988&amp;quot;],PARAMETER[&amp;quot;Vertical_Shift&amp;quot;,0.0],PARAMETER[&amp;quot;Direction&amp;quot;,1.0],UNIT[&amp;quot;Foot_US&amp;quot;,0.3048006096012192],AUTHORITY[&amp;quot;ESRI&amp;quot;,105703]]&lt;/WKT&gt;&lt;XOrigin&gt;-17463800&lt;/XOrigin&gt;&lt;YOrigin&gt;-46132600&lt;/YOrigin&gt;&lt;XYScale&gt;137244822.07846552&lt;/XYScale&gt;&lt;ZOrigin&gt;-100000&lt;/ZOrigin&gt;&lt;ZScale&gt;3048.0060960121923&lt;/ZScale&gt;&lt;MOrigin&gt;-100000&lt;/MOrigin&gt;&lt;MScale&gt;10000&lt;/MScale&gt;&lt;XYTolerance&gt;0.0032808333333333331&lt;/XYTolerance&gt;&lt;ZTolerance&gt;0.0032808333333333331&lt;/ZTolerance&gt;&lt;MTolerance&gt;0.001&lt;/MTolerance&gt;&lt;HighPrecision&gt;true&lt;/HighPrecision&gt;&lt;WKID&gt;103037&lt;/WKID&gt;&lt;LatestWKID&gt;103037&lt;/LatestWKID&gt;&lt;VCSWKID&gt;105703&lt;/VCSWKID&gt;&lt;LatestVCSWKID&gt;105703&lt;/LatestVCSWKID&gt;&lt;/ProjectedCoordinateSystem&gt;</peXml>
</coordRef>
<RasterProperties>
<General>
<PixelDepth Sync="TRUE">32</PixelDepth>
<HasColormap Sync="TRUE">FALSE</HasColormap>
<CompressionType Sync="TRUE">None</CompressionType>
<NumBands Sync="TRUE">1</NumBands>
<Format Sync="TRUE">GRID</Format>
<HasPyramids Sync="TRUE">TRUE</HasPyramids>
<SourceType Sync="TRUE">continuous</SourceType>
<PixelType Sync="TRUE">floating point</PixelType>
<NoDataValue Sync="TRUE">-3.4028235e+038</NoDataValue>
</General>
</RasterProperties>
</DataProperties>
<SyncDate>20160122</SyncDate>
<SyncTime>12310100</SyncTime>
<ModDate>20160122</ModDate>
<ModTime>13393800</ModTime>
<ArcGISProfile>FGDC</ArcGISProfile>
</Esri>
<mdHrLv>
<ScopeCd value="005">
</ScopeCd>
</mdHrLv>
<dataIdInfo>
<idPurp>These acquisitions of the LiDAR data and its derivatives were made possible by Dupage County. LiDAR data and its derivatives assist in real-world uses around...</idPurp>
<idAbs>This Digital Terrain Model (DTM) Hillshade data was produced all or in part from LiDAR information as of 2014. The LiDAR derived DTM Hillshade covers Dupage County, Illinois and include inland streams, rivers, lakes ponds and tidal features. These data are appropriate for use in local and regional analysis. This dataset was contracted as 4 ppsm LiDAR point cloud dataDigital Elevation Models (including terrain and surface models) are raster data sets created from whole LiDAR point cloud data sets (LAS files). The LAS files are the standard LiDAR file format which contains the raw point cloud data, these data are normally classified and distinguished between points on the ground, water or elevated features such as buildings, trees, towers, bridges, etc.. These LAS files are processed into elevation models to create gridded rasters. The first returns can be used to map the top reflective surface (Digital Surface Models - DSM), these normally include open terrain areas, as well as the tops of buildings, trees, towers, and other features elevated above the bare earth. The last returns are used to map the bare-earth terrain (Digital Terrain Models - DTM), these are normally produced with irregularly-spaced points rather than the uniform grid structure of a Digital Elevation Model (DEM), Digital Terrain Models will often include breaklines to help define edges of water bodies.</idAbs>
<idCitation>
<resTitle>Digital Terrain Model (DTM) Hillshade for Dupage County Illinois, 2014</resTitle>
<presForm>
<PresFormCd Sync="TRUE" value="005">
</PresFormCd>
</presForm>
</idCitation>
<searchKeys>
<keyword>Elevation data</keyword>
<keyword>LiDAR</keyword>
<keyword>LAS</keyword>
<keyword>Bare Earth</keyword>
<keyword>DEM</keyword>
<keyword>Breakline</keyword>
</searchKeys>
<resConst>
<Consts>
<useLimit>None. However, users should be aware that temporal changes may have occurred since this data set was collected and that some parts of this data may no longer represent actualsurface conditions. This report is released as a draft or preliminary version. Users shouldnot use this data for critical applications without a full awareness of its limitations.ISGS information is the property of and copyrighted by the Board of Trustees of the University of Illinois with all rights reserved. University copyright policy is stated in the General Rules Concerning University Organization and Procedure, Article III, Section 4. A link is provided in the Cross References section. Individuals or entities may make fair use of copyrighted ISGS material, such as reproducing a single figure or table, or using a brief text quotation, without obtaining formal permission, but in all cases the Illinois State Geological Survey must be credited as the source of the material. To reproduce ISGS information beyond the fair use standard, permission must be obtained from the ISGS Information Office, 615 East Peabody Drive, Champaign, Illinois 61820, 217-333-4747, isgs@isgs.illinois.edu. License fees and a license agreement may be required, depending on the proposed usage. Any use of these data is governed by University and campus policies, in particular, but not limited to, the Policy on Appropriate Use of Computers and Network Systems at the University of Illinois at Urbana-Champaign, the ISGS Terms of Use document available at the ISGS Web site, and the University of Illinois Web Privacy Notice. Links to these are provided in the Cross References section. Map information is to be used at a scientifically and cartographically appropriate scale, that is, at a scale no greater than indicated on the map or as described in the documentation of the map or map data. Map information is not appropriate for, and is not to be used as, a geodetic, legal, or engineering base. Map information has no legal basis in the definition of boundaries or property lines and is not intended as a substitute for surveyed locations such as can be determined by a registered Public Land Surveyor. The data do not replace the need for detailed site-specific studies.</useLimit>
</Consts>
</resConst>
<idCredit/>
<dataExt>
<geoEle>
<GeoBndBox esriExtentType="search">
<westBL Sync="FALSE">-88.2597339225</westBL>
<eastBL Sync="FALSE">-87.9182261179</eastBL>
<northBL Sync="FALSE">41.9967349365</northBL>
<southBL Sync="FALSE">41.7271988659</southBL>
</GeoBndBox>
</geoEle>
</dataExt>
<envirDesc Sync="FALSE">Esri ArcGIS 10.3.0.4322</envirDesc>
<dataLang>
<languageCode Sync="TRUE" value="eng">
</languageCode>
<countryCode Sync="TRUE" value="USA">
</countryCode>
</dataLang>
<spatRpType>
<SpatRepTypCd Sync="TRUE" value="002">
</SpatRepTypCd>
</spatRpType>
<dataChar>
<CharSetCd value="004">
</CharSetCd>
</dataChar>
<suppInfo>ISGS QAQC Review completed on Jan. 14, 2016. Collection Date: 4/21/14 - 5/5/14. 1. In some areas, the extent of the LiDAR data does not extend all the way out to the supplied county boundary.
2. There are several breaklines where the elevation difference between the breakline and the water surface elevation that is over the threshold.
As seen on the DSM on tile #0969 - #0697 - #0891 - #0913 #0782 - #0652 - #1052 3. On tile #0737 and #0738 there is a breakline that is misaligned. It does not align to the border of the lake but instead goes over the top of one and behind another one. 10. On tile #0737 and #0738 there is a breakline that is misaligned. It does not align to the border of the lake but instead goes over the top of one and behind another one. 4. There are several instances where portions of buildings have been classified as ground. As seen on tile #0838 - #809. As seen on tile #0794 where an above ground parking structure and its ramp have been classified as ground. As seen on tile #0656. As seen on tile #0766. As seen on tile #0640, where the ramp of a parking structure has been classified as ground. As seen on tile #0646, where a portion of a parking structure has been classified as ground. As seen on tile #0573, where a structure has been classified as ground. On tile #0661 a bridge has been misclassified as ground. 5. 3. The way that LiDAR reacts to water, the occasional erroneous return is to be expected. But when erroneous points are grouped together in large numbers over a water body, to the extent that they start to look like actual features, or makes the data look inaccurate, these are errors that need to be fixed. As seen on tile #0595. As seen on tile #0577, #0578, #0594, and #0595. As seen on tile #0572 and #0578. As seen on tile #0716. As seen on tile #1042. As seen on tile #0951 and #0974. As seen on tile #1088. As seen on tile #1114 and #1115. As seen on tile #1114. As seen on tile #1113 and #1123. As seen on tile #1122. As seen on tile #1113. To see a full report with screen shots describing - please contact ISGS @ info@isgs.illinois.edu.
</suppInfo>
</dataIdInfo>
<spatRepInfo>
<Georect>
<axisDimension type="002">
<dimSize Sync="TRUE">70529</dimSize>
<dimResol>
<value Sync="TRUE" uom="ftUS">1.500000</value>
</dimResol>
</axisDimension>
<axisDimension type="001">
<dimSize Sync="TRUE">92475</dimSize>
<dimResol>
<value Sync="TRUE" uom="ftUS">1.500000</value>
</dimResol>
</axisDimension>
<cellGeo>
<CellGeoCd Sync="TRUE" value="002">
</CellGeoCd>
</cellGeo>
<numDims Sync="TRUE">2</numDims>
<tranParaAv Sync="TRUE">1</tranParaAv>
<chkPtAv Sync="TRUE">0</chkPtAv>
<cornerPts>
<pos Sync="TRUE">998126.908093 1822779.633012</pos>
</cornerPts>
<cornerPts>
<pos Sync="TRUE">998126.908093 1961492.133012</pos>
</cornerPts>
<cornerPts>
<pos Sync="TRUE">1103920.408093 1961492.133012</pos>
</cornerPts>
<cornerPts>
<pos Sync="TRUE">1103920.408093 1822779.633012</pos>
</cornerPts>
<centerPt>
<pos Sync="TRUE">1051023.658093 1892135.883012</pos>
</centerPt>
<ptInPixel>
<PixOrientCd Sync="TRUE" value="001">
</PixOrientCd>
</ptInPixel>
</Georect>
</spatRepInfo>
<eainfo>
<detailed>
<enttyp>
<enttypl>GRID</enttypl>
<enttypd>Raster</enttypd>
<enttypds>ISGS</enttypds>
</enttyp>
</detailed>
<overview>
<dsoverv>Raster Grid Values</dsoverv>
<eaover>Specifications: USGS NGP Base Specification v1
Sensor: Leica ALS70 sensor SN7161
Max returns: 4
Nominal Point Spacing: 0.5
Lidar point density: 6.64
Flight Hieght: 3,139
Flight Speed: 150 knots
NAD_1983_2011_StatePlane_Illinois_West_FIPS_1202_Ft_US National Geodetic Survey (NGS) Geoid12A Lidar Accuracy: Horz. 0.0820 CLSFVA: 0.0820
Clscva: 0.1311
Svalctyp: Urban Svavalue: 0.0546 Class Accuracy:
Tall Grass/Agriculture: 0.1106 Brush/Scrub/Shrub: 0.1350
Woods/Forest: 0.1710
LAS Version 1.2 Overlap: To maintain high point density overage points were not indicated by class
Classes: 0: Never Processed 1: Processed, but unclassified
2: Bare-earth, Ground
7: Noise (low or high, manually identified, if needed) 9: Water
10: Ignored ground (Breakline proximity
</eaover>
<eadetcit>ISGS</eadetcit>
</overview>
</eainfo>
<mdLang>
<languageCode Sync="TRUE" value="eng">
</languageCode>
<countryCode Sync="TRUE" value="USA">
</countryCode>
</mdLang>
<distInfo>
<distFormat>
<formatName Sync="TRUE">Raster Dataset</formatName>
</distFormat>
</distInfo>
<mdHrLvName Sync="TRUE">dataset</mdHrLvName>
<refSysInfo>
<RefSystem>
<refSysID>
<identCode Sync="TRUE" code="103037">
</identCode>
<idCodeSpace Sync="TRUE">ESRI</idCodeSpace>
<idVersion Sync="TRUE">10.2.1</idVersion>
</refSysID>
</RefSystem>
</refSysInfo>
<mdDateSt Sync="TRUE">20160122</mdDateSt>
<dqInfo>
<dqScope>
<scpLvl>
<ScopeCd value="005">
</ScopeCd>
</scpLvl>
</dqScope>
</dqInfo>
</metadata>
