{
 "currentVersion": 11.3,
 "serviceDescription": "This Digital Terrain Model (DTM) Hillshade data was produced all or in part from LiDAR information as of 2017. The LiDAR derived DTM Hillshade covers Dupage County, Illinois and include inland streams, rivers, lakes ponds and tidal features. These data are appropriate for use in local and regional analysis. Geiger Mode LiDAR data ≥30ppm encompassing approximately 363 square miles within DuPage County, Illinois. Digital Elevation Models are raster data sets created from whole LiDAR point cloud data sets (LAS files). The LAS files are the standard LiDAR file format which contains the raw point cloud data, these data are normally classified and distinguished between points on the ground, water or elevated features such as buildings, trees, towers, bridges, etc.. These LAS files are processed into elevation models to create gridded rasters. The last returns are used to map the bare-earth terrain (Digital Terrain Models - DTM), these are normally produced with irregularly-spaced points rather than the uniform grid structure of a Digital Elevation Model (DEM), Digital Terrain Models will often include breaklines to help define edges of water bodies.",
 "name": "DTM2017_HillShade",
 "description": "This Digital Terrain Model (DTM) Hillshade data was produced all or in part from LiDAR information as of 2017. The LiDAR derived DTM Hillshade covers Dupage County, Illinois and include inland streams, rivers, lakes ponds and tidal features. These data are appropriate for use in local and regional analysis. Geiger Mode LiDAR data ≥30ppm encompassing approximately 363 square miles within DuPage County, Illinois. Digital Elevation Models are raster data sets created from whole LiDAR point cloud data sets (LAS files). The LAS files are the standard LiDAR file format which contains the raw point cloud data, these data are normally classified and distinguished between points on the ground, water or elevated features such as buildings, trees, towers, bridges, etc.. These LAS files are processed into elevation models to create gridded rasters. The last returns are used to map the bare-earth terrain (Digital Terrain Models - DTM), these are normally produced with irregularly-spaced points rather than the uniform grid structure of a Digital Elevation Model (DEM), Digital Terrain Models will often include breaklines to help define edges of water bodies.",
 "extent": {
  "xmin": 1002500,
  "ymin": 1825000,
  "xmax": 1100000,
  "ymax": 1942500,
  "spatialReference": {
   "wkid": 103037,
   "latestWkid": 6455
  }
 },
 "initialExtent": {
  "xmin": 1002500,
  "ymin": 1825000,
  "xmax": 1100000,
  "ymax": 1942500,
  "spatialReference": {
   "wkid": 103037,
   "latestWkid": 6455
  }
 },
 "fullExtent": {
  "xmin": 1002500,
  "ymin": 1825000,
  "xmax": 1100000,
  "ymax": 1942500,
  "spatialReference": {
   "wkid": 103037,
   "latestWkid": 6455
  }
 },
 "sortableFields": "",
 "bandCount": 1,
 "pixelType": "S32",
 "minValues": [],
 "maxValues": [],
 "meanValues": [],
 "stdvValues": [],
 "hasMultidimensions": false,
 "pixelSizeX": 1,
 "pixelSizeY": 1,
 "meanPixelSize": 0.30480060960121924,
 "datasetFormat": "GRID",
 "uncompressedSize": 45825000000,
 "blockWidth": 256,
 "blockHeight": 16,
 "compressionType": "RLE",
 "bandNames": [
  "dupa_dth_201"
 ],
 "allowCopy": true,
 "allowAnalysis": true,
 "itemAccess": false,
 "inspectionCapabilities": "",
 "noDataValue": -2147483647,
 "noDataValues": [
  -2147483647
 ],
 "minPixelSize": 0,
 "maxPixelSize": 0,
 "copyrightText": "",
 "serviceDataType": "esriImageServiceDataTypeGeneric",
 "serviceSourceType": "esriImageServiceSourceTypeDataset",
 "objectIdField": "",
 "fields": [],
 "capabilities": "Mensuration,Image,Metadata",
 "defaultMosaicMethod": "Center",
 "allowedMosaicMethods": "",
 "sortField": "",
 "sortValue": null,
 "sortAscending": true,
 "mosaicOperator": "First",
 "defaultCompressionQuality": 75,
 "defaultResamplingMethod": "Bilinear",
 "maxImageHeight": 4100,
 "maxImageWidth": 15000,
 "allowRasterFunction": true,
 "rasterFunctionInfos": [
  {
   "name": "None",
   "description": "",
   "help": ""
  }
 ],
 "rasterTypeInfos": [
  {
   "name": "Raster Dataset",
   "description": "Supports all ArcGIS Raster Datasets",
   "help": ""
  }
 ],
 "mensurationCapabilities": "Basic",
 "hasHistograms": false,
 "hasColormap": false,
 "hasRasterAttributeTable": false,
 "minScale": 0,
 "maxScale": 0,
 "exportTilesAllowed": false,
 "supportsStatistics": false,
 "supportsAdvancedQueries": false,
 "editFieldsInfo": null,
 "ownershipBasedAccessControlForRasters": null,
 "allowComputeTiePoints": false,
 "useStandardizedQueries": true,
 "advancedQueryCapabilities": {
  "useStandardizedQueries": true,
  "supportsStatistics": false,
  "supportsOrderBy": false,
  "supportsDistinct": false,
  "supportsPagination": false
 },
 "spatialReference": {
  "wkid": 103037,
  "latestWkid": 6455
 },
 "resampling": false
}
