{ "currentVersion": 10.91, "serviceDescription": "
Geiger Mode LiDAR data ≥30ppm encompassing approximately 363 square miles within DuPage County, Illinois. A total of 1619 Customer Tiles make up this AOI. The source, Geiger-mode LiDAR sensor is specifically designed to maximize coverage, and minimize cost in acquiring highly accurate, high-density data, of exceptional quality, and provides the unique technology that shall satisfy DuPage Counties ability to identify and manage assets. Note: This data was collected while a USGS project was collected in the North Eastern Illinois counties (McHenry, Lake, Kane and Cook counties). Since DuPage is between Kane and Cook county, DuPage was essentially \"collected\" but not delivered as part of the NEIL delivery. DuPage county bought up the collected data to have it classified and in hopes that it would be up to the USGS LiDAR Base specifications Version 1.2. However, since there were no vegetative checkpoints collected - the data could not be verified to be up to the Vertical Accuracy Standards. Users should keep this in mind while using this data.<\/span><\/p><\/div><\/div><\/div>",
"name": "DuPage2017DTM",
"description": " Geiger Mode LiDAR data ≥30ppm encompassing approximately 363 square miles within DuPage County, Illinois. A total of 1619 Customer Tiles make up this AOI. The source, Geiger-mode LiDAR sensor is specifically designed to maximize coverage, and minimize cost in acquiring highly accurate, high-density data, of exceptional quality, and provides the unique technology that shall satisfy DuPage Counties ability to identify and manage assets. Note: This data was collected while a USGS project was collected in the North Eastern Illinois counties (McHenry, Lake, Kane and Cook counties). Since DuPage is between Kane and Cook county, DuPage was essentially \"collected\" but not delivered as part of the NEIL delivery. DuPage county bought up the collected data to have it classified and in hopes that it would be up to the USGS LiDAR Base specifications Version 1.2. However, since there were no vegetative checkpoints collected - the data could not be verified to be up to the Vertical Accuracy Standards. Users should keep this in mind while using this data.<\/span><\/p><\/div><\/div><\/div>",
"extent": {
"xmin": 1022500,
"ymin": 1892500,
"xmax": 1027500,
"ymax": 1897500,
"spatialReference": {
"wkid": 103037,
"latestWkid": 6455
}
},
"initialExtent": {
"xmin": 1022500,
"ymin": 1892500,
"xmax": 1027500,
"ymax": 1897500,
"spatialReference": {
"wkid": 103037,
"latestWkid": 6455
}
},
"fullExtent": {
"xmin": 1022500,
"ymin": 1892500,
"xmax": 1027500,
"ymax": 1897500,
"spatialReference": {
"wkid": 103037,
"latestWkid": 6455
}
},
"hasMultidimensions": false,
"pixelSizeX": 1,
"pixelSizeY": 1,
"datasetFormat": "FGDBR",
"uncompressedSize": 100000000,
"blockWidth": 128,
"blockHeight": 128,
"compressionType": "LZ77",
"bandNames": [
"Band_1"
],
"allowCopy": true,
"allowAnalysis": true,
"bandCount": 1,
"pixelType": "F32",
"minPixelSize": 0,
"maxPixelSize": 0,
"copyrightText": "Harris Corp., DuPage county",
"serviceDataType": "esriImageServiceDataTypeGeneric",
"serviceSourceType": "esriImageServiceSourceTypeDataset",
"minValues": [
701.0909423828125
],
"maxValues": [
781.2109375
],
"meanValues": [
726.7640961154785
],
"stdvValues": [
19.459159545586093
],
"objectIdField": "",
"fields": [],
"capabilities": "Mensuration,Image,Metadata",
"defaultMosaicMethod": "Center",
"allowedMosaicMethods": "",
"sortField": "",
"sortValue": null,
"sortAscending": true,
"mosaicOperator": "First",
"defaultCompressionQuality": 75,
"defaultResamplingMethod": "Bilinear",
"maxImageHeight": 4100,
"maxImageWidth": 15000,
"allowRasterFunction": true,
"rasterFunctionInfos": [
{
"name": "None",
"description": "",
"help": ""
}
],
"rasterTypeInfos": [
{
"name": "Raster Dataset",
"description": "Supports all ArcGIS Raster Datasets",
"help": ""
}
],
"mensurationCapabilities": "Basic",
"hasHistograms": true,
"hasColormap": false,
"hasRasterAttributeTable": false,
"minScale": 0,
"maxScale": 0,
"exportTilesAllowed": false,
"supportsStatistics": false,
"supportsAdvancedQueries": false,
"editFieldsInfo": null,
"ownershipBasedAccessControlForRasters": null,
"allowComputeTiePoints": false,
"useStandardizedQueries": true,
"advancedQueryCapabilities": {
"useStandardizedQueries": true,
"supportsStatistics": false,
"supportsOrderBy": false,
"supportsDistinct": false,
"supportsPagination": false
},
"spatialReference": {
"wkid": 103037,
"latestWkid": 6455
}
}