View In:
ArcGIS JavaScript
ArcGIS Online Map Viewer
ArcGIS Earth
Service Description: 1978 Imagery
Name: Imagery_1978_Service
Description: 1978 Imagery
Single Fused Map Cache: false
Extent:
XMin: 999999.030962
YMin: 1830000.109994
XMax: 1100000.830958
YMax: 1949999.869994
Spatial Reference: 102671
(3435)
LatestVCSWkid(0)
Initial Extent:
XMin: 999999.030962
YMin: 1830000.109994
XMax: 1100000.830958
YMax: 1949999.869994
Spatial Reference: 102671
(3435)
LatestVCSWkid(0)
Full Extent:
XMin: 999999.030962
YMin: 1830000.109994
XMax: 1100000.830958
YMax: 1949999.869994
Spatial Reference: 102671
(3435)
LatestVCSWkid(0)
Pixel Size X: 1.9999959999999979
Pixel Size Y: 1.999996
Band Count: 1
Pixel Type: U8
RasterFunction Infos: {"rasterFunctionInfos": [{
"name": "None",
"description": "",
"help": ""
}]}
Mensuration Capabilities: Basic
Inspection Capabilities:
Has Histograms: true
Has Colormap: false
Has Multi Dimensions : false
Rendering Rule:
Min Scale: 0
Max Scale: 0
Resampling: false
Copyright Text:
Service Data Type: esriImageServiceDataTypeGeneric
Min Values: 0
Max Values: 255
Mean Values: 108.28640608786
Standard Deviation Values: 53.973400240338
Object ID Field:
Fields:
None
Default Mosaic Method: Northwest
Allowed Mosaic Methods: NorthWest,Center,LockRaster,ByAttribute,Nadir,Viewpoint,Seamline,None
SortField:
SortValue: null
Mosaic Operator: First
Default Compression Quality: 75
Default Resampling Method: Bilinear
Max Record Count: 1000
Max Image Height: 4100
Max Image Width: 15000
Max Download Image Count: 20
Max Mosaic Image Count: 20
Allow Raster Function: true
Allow Copy: true
Allow Analysis: true
Allow Compute TiePoints: false
Supports Statistics: false
Supports Advanced Queries: false
Use StandardizedQueries: true
Raster Type Infos:
Name: Raster Dataset
Description: Supports all ArcGIS Raster Datasets
Help:
Has Raster Attribute Table: false
Edit Fields Info: null
Ownership Based AccessControl For Rasters: null
Child Resources:
Info
Histograms
Statistics
Key Properties
Legend
Raster Function Infos
Supported Operations:
Export Image
Query
Identify
Measure
Compute Histograms
Compute Statistics Histograms
Get Samples
Compute Class Statistics
Query GPS Info
Find Images
Image to Map
Map to Image
Measure from Image
Image to Map Multiray
Query Boundary
Compute Pixel Location
Compute Angles
Validate
Project