View In:
ArcGIS JavaScript
ArcGIS Online Map Viewer
ArcGIS Earth
ArcMap
View Footprint In:
ArcGIS Online Map Viewer
Service Description: Geiger Mode LiDAR data ≥30ppm encompassing approximately 363 square miles within DuPage County, Illinois. A total of 1619 Customer Tiles make up this AOI. The source, Geiger-mode LiDAR sensor is specifically designed to maximize coverage, and minimize cost in acquiring highly accurate, high-density data, of exceptional quality, and provides the unique technology that shall satisfy DuPage Counties ability to identify and manage assets. Note: This data was collected while a USGS project was collected in the North Eastern Illinois counties (McHenry, Lake, Kane and Cook counties). Since DuPage is between Kane and Cook county, DuPage was essentially "collected" but not delivered as part of the NEIL delivery. DuPage county bought up the collected data to have it classified and in hopes that it would be up to the USGS LiDAR Base specifications Version 1.2. However, since there were no vegetative checkpoints collected - the data could not be verified to be up to the Vertical Accuracy Standards. Users should keep this in mind while using this data.
Name: DuPage2017DTM
Description: Geiger Mode LiDAR data ≥30ppm encompassing approximately 363 square miles within DuPage County, Illinois. A total of 1619 Customer Tiles make up this AOI. The source, Geiger-mode LiDAR sensor is specifically designed to maximize coverage, and minimize cost in acquiring highly accurate, high-density data, of exceptional quality, and provides the unique technology that shall satisfy DuPage Counties ability to identify and manage assets. Note: This data was collected while a USGS project was collected in the North Eastern Illinois counties (McHenry, Lake, Kane and Cook counties). Since DuPage is between Kane and Cook county, DuPage was essentially "collected" but not delivered as part of the NEIL delivery. DuPage county bought up the collected data to have it classified and in hopes that it would be up to the USGS LiDAR Base specifications Version 1.2. However, since there were no vegetative checkpoints collected - the data could not be verified to be up to the Vertical Accuracy Standards. Users should keep this in mind while using this data.
Single Fused Map Cache: false
Extent:
XMin: 1022500.0
YMin: 1892500.0
XMax: 1027500.0
YMax: 1897500.0
Spatial Reference: 103037
(6455)
LatestVCSWkid(0)
Initial Extent:
XMin: 1022500.0
YMin: 1892500.0
XMax: 1027500.0
YMax: 1897500.0
Spatial Reference: 103037
(6455)
LatestVCSWkid(0)
Full Extent:
XMin: 1022500.0
YMin: 1892500.0
XMax: 1027500.0
YMax: 1897500.0
Spatial Reference: 103037
(6455)
LatestVCSWkid(0)
Pixel Size X: 1.0
Pixel Size Y: 1.0
Band Count: 1
Pixel Type: F32
RasterFunction Infos: {"rasterFunctionInfos": [{
"name": "None",
"description": "",
"help": ""
}]}
Mensuration Capabilities: Basic
Has Histograms: true
Has Colormap: false
Has Multi Dimensions : false
Rendering Rule:
Min Scale: 0
Max Scale: 0
Copyright Text: Harris Corp., DuPage county
Service Data Type: esriImageServiceDataTypeGeneric
Min Values: 701.0909423828125
Max Values: 781.2109375
Mean Values: 726.7640961154785
Standard Deviation Values: 19.459159545586093
Object ID Field:
Fields:
None
Default Mosaic Method: Center
Allowed Mosaic Methods:
SortField:
SortValue: null
Mosaic Operator: First
Default Compression Quality: 75
Default Resampling Method: Bilinear
Max Record Count: null
Max Image Height: 4100
Max Image Width: 15000
Max Download Image Count: null
Max Mosaic Image Count: null
Allow Raster Function: true
Allow Copy: true
Allow Analysis: true
Allow Compute TiePoints: false
Supports Statistics: false
Supports Advanced Queries: false
Use StandardizedQueries: true
Raster Type Infos:
Name: Raster Dataset
Description: Supports all ArcGIS Raster Datasets
Help:
Has Raster Attribute Table: false
Edit Fields Info: null
Ownership Based AccessControl For Rasters: null
Child Resources:
Info
Histograms
Statistics
Key Properties
Legend
Raster Function Infos
Supported Operations:
Export Image
Identify
Measure
Compute Histograms
Compute Statistics Histograms
Get Samples
Compute Class Statistics
Query Boundary
Compute Pixel Location
Compute Angles
Validate
Project